BEGIN:VCALENDAR
VERSION:2.0
PRODID:http://www.kufer.de/kuferweb / DE
METHOD:PUBLISH
CALSCALE:GREGORIAN
X-WR-TIMEZONE:Europe/Berlin
BEGIN:VTIMEZONE
TZID:Europe/Berlin
X-LIC-LOCATION:Europe/Berlin
BEGIN:DAYLIGHT
TZOFFSETFROM:+0100
TZOFFSETTO:+0200
TZNAME:CEST
DTSTART;TZID=Europe/Berlin:19700329T020000
RRULE:FREQ=YEARLY;INTERVAL=1;BYDAY=-1SU;BYMONTH=3
END:DAYLIGHT
BEGIN:STANDARD
TZOFFSETFROM:+0200
TZOFFSETTO:+0100
TZNAME:CET
DTSTART;TZID=Europe/Berlin:19701025T030000
RRULE:FREQ=YEARLY;INTERVAL=1;BYDAY=-1SU;BYMONTH=10
END:STANDARD
END:VTIMEZONE
BEGIN:VEVENT
DTSTAMP:20260426T000422
DTSTART;TZID=Europe/Berlin:20250927T100000
DTEND;TZID=Europe/Berlin:20250927T113000
UID:252-20004-20250927T100000@VHSECKENTAL
SUMMARY:Circle Singing - Jeder kann singen! Singen ohne Vorkenntnisse und Noten (252-20004) 
LOCATION:Interimsgebäude 1.OG Zi-Nr. 129, Ambazac-Straße 5, 90542 Eckental
END:VEVENT
BEGIN:VEVENT
DTSTAMP:20260426T000422
DTSTART;TZID=Europe/Berlin:20251011T100000
DTEND;TZID=Europe/Berlin:20251011T113000
UID:252-20004-20251011T100000@VHSECKENTAL
SUMMARY:Circle Singing - Jeder kann singen! Singen ohne Vorkenntnisse und Noten (252-20004) 
LOCATION:Interimsgebäude 1.OG Zi-Nr. 129, Ambazac-Straße 5, 90542 Eckental
END:VEVENT
BEGIN:VEVENT
DTSTAMP:20260426T000422
DTSTART;TZID=Europe/Berlin:20251115T100000
DTEND;TZID=Europe/Berlin:20251115T113000
UID:252-20004-20251115T100000@VHSECKENTAL
SUMMARY:Circle Singing - Jeder kann singen! Singen ohne Vorkenntnisse und Noten (252-20004) 
LOCATION:Interimsgebäude 1.OG Zi-Nr. 129, Ambazac-Straße 5, 90542 Eckental
END:VEVENT
BEGIN:VEVENT
DTSTAMP:20260426T000422
DTSTART;TZID=Europe/Berlin:20251129T100000
DTEND;TZID=Europe/Berlin:20251129T113000
UID:252-20004-20251129T100000@VHSECKENTAL
SUMMARY:Circle Singing - Jeder kann singen! Singen ohne Vorkenntnisse und Noten (252-20004) 
LOCATION:Interimsgebäude 1.OG Zi-Nr. 129, Ambazac-Straße 5, 90542 Eckental
END:VEVENT
BEGIN:VEVENT
DTSTAMP:20260426T000422
DTSTART;TZID=Europe/Berlin:20251213T100000
DTEND;TZID=Europe/Berlin:20251213T113000
UID:252-20004-20251213T100000@VHSECKENTAL
SUMMARY:Circle Singing - Jeder kann singen! Singen ohne Vorkenntnisse und Noten (252-20004) 
LOCATION:Interimsgebäude 1.OG Zi-Nr. 129, Ambazac-Straße 5, 90542 Eckental
END:VEVENT
BEGIN:VEVENT
DTSTAMP:20260426T000422
DTSTART;TZID=Europe/Berlin:20251220T100000
DTEND;TZID=Europe/Berlin:20251220T113000
UID:252-20004-20251220T100000@VHSECKENTAL
SUMMARY:Circle Singing - Jeder kann singen! Singen ohne Vorkenntnisse und Noten (252-20004) 
LOCATION:Interimsgebäude 1.OG Zi-Nr. 129, Ambazac-Straße 5, 90542 Eckental
END:VEVENT
BEGIN:VEVENT
DTSTAMP:20260426T000422
DTSTART;TZID=Europe/Berlin:20260110T100000
DTEND;TZID=Europe/Berlin:20260110T113000
UID:252-20004-20260110T100000@VHSECKENTAL
SUMMARY:Circle Singing - Jeder kann singen! Singen ohne Vorkenntnisse und Noten (252-20004) 
LOCATION:Interimsgebäude 1.OG Zi-Nr. 129, Ambazac-Straße 5, 90542 Eckental
END:VEVENT
BEGIN:VEVENT
DTSTAMP:20260426T000422
DTSTART;TZID=Europe/Berlin:20260124T100000
DTEND;TZID=Europe/Berlin:20260124T113000
UID:252-20004-20260124T100000@VHSECKENTAL
SUMMARY:Circle Singing - Jeder kann singen! Singen ohne Vorkenntnisse und Noten (252-20004) 
LOCATION:Interimsgebäude 1.OG Zi-Nr. 129, Ambazac-Straße 5, 90542 Eckental
END:VEVENT
BEGIN:VEVENT
DTSTAMP:20260426T000422
DTSTART;TZID=Europe/Berlin:20260207T100000
DTEND;TZID=Europe/Berlin:20260207T113000
UID:252-20004-20260207T100000@VHSECKENTAL
SUMMARY:Circle Singing - Jeder kann singen! Singen ohne Vorkenntnisse und Noten (252-20004) 
LOCATION:Interimsgebäude 1.OG Zi-Nr. 129, Ambazac-Straße 5, 90542 Eckental
END:VEVENT
BEGIN:VEVENT
DTSTAMP:20260426T000422
DTSTART;TZID=Europe/Berlin:20260214T100000
DTEND;TZID=Europe/Berlin:20260214T113000
UID:252-20004-20260214T100000@VHSECKENTAL
DESCRIPTION:Ersatz für 25.10.
SUMMARY:Circle Singing - Jeder kann singen! Singen ohne Vorkenntnisse und Noten (252-20004) 
LOCATION:Interimsgebäude 1.OG Zi-Nr. 129, Ambazac-Straße 5, 90542 Eckental
END:VEVENT
END:VCALENDAR