BEGIN:VCALENDAR
VERSION:2.0
PRODID:http://www.kufer.de/kuferweb / DE
METHOD:PUBLISH
CALSCALE:GREGORIAN
X-WR-TIMEZONE:Europe/Berlin
BEGIN:VTIMEZONE
TZID:Europe/Berlin
X-LIC-LOCATION:Europe/Berlin
BEGIN:DAYLIGHT
TZOFFSETFROM:+0100
TZOFFSETTO:+0200
TZNAME:CEST
DTSTART;TZID=Europe/Berlin:19700329T020000
RRULE:FREQ=YEARLY;INTERVAL=1;BYDAY=-1SU;BYMONTH=3
END:DAYLIGHT
BEGIN:STANDARD
TZOFFSETFROM:+0200
TZOFFSETTO:+0100
TZNAME:CET
DTSTART;TZID=Europe/Berlin:19701025T030000
RRULE:FREQ=YEARLY;INTERVAL=1;BYDAY=-1SU;BYMONTH=10
END:STANDARD
END:VTIMEZONE
BEGIN:VEVENT
DTSTAMP:20260424T114656
DTSTART;TZID=Europe/Berlin:20251205T090000
DTEND;TZID=Europe/Berlin:20251205T094500
UID:252-30003-20251205T090000@VHSECKENTAL
SUMMARY:Mama-Fitness mit Baby (Hybridkurs) (252-30003) 
LOCATION:Interimsgebäude 1.OG Zi-Nr. 123 , Ambazac-Straße 5, 90542 Eckental
END:VEVENT
BEGIN:VEVENT
DTSTAMP:20260424T114656
DTSTART;TZID=Europe/Berlin:20251212T090000
DTEND;TZID=Europe/Berlin:20251212T094500
UID:252-30003-20251212T090000@VHSECKENTAL
SUMMARY:Mama-Fitness mit Baby (Hybridkurs) (252-30003) 
LOCATION:Interimsgebäude 1.OG Zi-Nr. 123 , Ambazac-Straße 5, 90542 Eckental
END:VEVENT
BEGIN:VEVENT
DTSTAMP:20260424T114656
DTSTART;TZID=Europe/Berlin:20251219T090000
DTEND;TZID=Europe/Berlin:20251219T094500
UID:252-30003-20251219T090000@VHSECKENTAL
SUMMARY:Mama-Fitness mit Baby (Hybridkurs) (252-30003) 
LOCATION:Interimsgebäude 1.OG Zi-Nr. 123 , Ambazac-Straße 5, 90542 Eckental
END:VEVENT
BEGIN:VEVENT
DTSTAMP:20260424T114656
DTSTART;TZID=Europe/Berlin:20260109T090000
DTEND;TZID=Europe/Berlin:20260109T094500
UID:252-30003-20260109T090000@VHSECKENTAL
SUMMARY:Mama-Fitness mit Baby (Hybridkurs) (252-30003) 
LOCATION:Interimsgebäude 1.OG Zi-Nr. 123 , Ambazac-Straße 5, 90542 Eckental
END:VEVENT
BEGIN:VEVENT
DTSTAMP:20260424T114656
DTSTART;TZID=Europe/Berlin:20260116T090000
DTEND;TZID=Europe/Berlin:20260116T094500
UID:252-30003-20260116T090000@VHSECKENTAL
SUMMARY:Mama-Fitness mit Baby (Hybridkurs) (252-30003) 
LOCATION:Interimsgebäude 1.OG Zi-Nr. 123 , Ambazac-Straße 5, 90542 Eckental
END:VEVENT
BEGIN:VEVENT
DTSTAMP:20260424T114656
DTSTART;TZID=Europe/Berlin:20260123T090000
DTEND;TZID=Europe/Berlin:20260123T094500
UID:252-30003-20260123T090000@VHSECKENTAL
SUMMARY:Mama-Fitness mit Baby (Hybridkurs) (252-30003) 
LOCATION:Interimsgebäude 1.OG Zi-Nr. 123 , Ambazac-Straße 5, 90542 Eckental
END:VEVENT
BEGIN:VEVENT
DTSTAMP:20260424T114656
DTSTART;TZID=Europe/Berlin:20260130T090000
DTEND;TZID=Europe/Berlin:20260130T094500
UID:252-30003-20260130T090000@VHSECKENTAL
SUMMARY:Mama-Fitness mit Baby (Hybridkurs) (252-30003) 
LOCATION:Interimsgebäude 1.OG Zi-Nr. 123 , Ambazac-Straße 5, 90542 Eckental
END:VEVENT
END:VCALENDAR