BEGIN:VCALENDAR
VERSION:2.0
PRODID:http://www.kufer.de/kuferweb / DE
METHOD:PUBLISH
CALSCALE:GREGORIAN
X-WR-TIMEZONE:Europe/Berlin
BEGIN:VTIMEZONE
TZID:Europe/Berlin
X-LIC-LOCATION:Europe/Berlin
BEGIN:DAYLIGHT
TZOFFSETFROM:+0100
TZOFFSETTO:+0200
TZNAME:CEST
DTSTART;TZID=Europe/Berlin:19700329T020000
RRULE:FREQ=YEARLY;INTERVAL=1;BYDAY=-1SU;BYMONTH=3
END:DAYLIGHT
BEGIN:STANDARD
TZOFFSETFROM:+0200
TZOFFSETTO:+0100
TZNAME:CET
DTSTART;TZID=Europe/Berlin:19701025T030000
RRULE:FREQ=YEARLY;INTERVAL=1;BYDAY=-1SU;BYMONTH=10
END:STANDARD
END:VTIMEZONE
BEGIN:VEVENT
DTSTAMP:20260424T231522
DTSTART;TZID=Europe/Berlin:20250915T183000
DTEND;TZID=Europe/Berlin:20250915T200000
UID:252-30008-20250915T183000@VHSECKENTAL
SUMMARY:Yoga für Frauen - Fortgeschrittene (kleine Gruppe) (252-30008) 
LOCATION:Gründlachhalle Nebenraum Heroldsberg, Schustergasse 5, 90562 Heroldsberg
END:VEVENT
BEGIN:VEVENT
DTSTAMP:20260424T231522
DTSTART;TZID=Europe/Berlin:20250922T183000
DTEND;TZID=Europe/Berlin:20250922T200000
UID:252-30008-20250922T183000@VHSECKENTAL
SUMMARY:Yoga für Frauen - Fortgeschrittene (kleine Gruppe) (252-30008) 
LOCATION:Gründlachhalle Nebenraum Heroldsberg, Schustergasse 5, 90562 Heroldsberg
END:VEVENT
BEGIN:VEVENT
DTSTAMP:20260424T231522
DTSTART;TZID=Europe/Berlin:20250929T183000
DTEND;TZID=Europe/Berlin:20250929T200000
UID:252-30008-20250929T183000@VHSECKENTAL
SUMMARY:Yoga für Frauen - Fortgeschrittene (kleine Gruppe) (252-30008) 
LOCATION:Gründlachhalle Nebenraum Heroldsberg, Schustergasse 5, 90562 Heroldsberg
END:VEVENT
BEGIN:VEVENT
DTSTAMP:20260424T231522
DTSTART;TZID=Europe/Berlin:20251006T183000
DTEND;TZID=Europe/Berlin:20251006T200000
UID:252-30008-20251006T183000@VHSECKENTAL
SUMMARY:Yoga für Frauen - Fortgeschrittene (kleine Gruppe) (252-30008) 
LOCATION:Gründlachhalle Nebenraum Heroldsberg, Schustergasse 5, 90562 Heroldsberg
END:VEVENT
BEGIN:VEVENT
DTSTAMP:20260424T231522
DTSTART;TZID=Europe/Berlin:20251013T183000
DTEND;TZID=Europe/Berlin:20251013T200000
UID:252-30008-20251013T183000@VHSECKENTAL
SUMMARY:Yoga für Frauen - Fortgeschrittene (kleine Gruppe) (252-30008) 
LOCATION:Gründlachhalle Nebenraum Heroldsberg, Schustergasse 5, 90562 Heroldsberg
END:VEVENT
BEGIN:VEVENT
DTSTAMP:20260424T231522
DTSTART;TZID=Europe/Berlin:20251103T183000
DTEND;TZID=Europe/Berlin:20251103T200000
UID:252-30008-20251103T183000@VHSECKENTAL
SUMMARY:Yoga für Frauen - Fortgeschrittene (kleine Gruppe) (252-30008) 
LOCATION:Gründlachhalle Nebenraum Heroldsberg, Schustergasse 5, 90562 Heroldsberg
END:VEVENT
BEGIN:VEVENT
DTSTAMP:20260424T231522
DTSTART;TZID=Europe/Berlin:20251110T183000
DTEND;TZID=Europe/Berlin:20251110T200000
UID:252-30008-20251110T183000@VHSECKENTAL
SUMMARY:Yoga für Frauen - Fortgeschrittene (kleine Gruppe) (252-30008) 
LOCATION:Gründlachhalle Nebenraum Heroldsberg, Schustergasse 5, 90562 Heroldsberg
END:VEVENT
BEGIN:VEVENT
DTSTAMP:20260424T231522
DTSTART;TZID=Europe/Berlin:20251117T183000
DTEND;TZID=Europe/Berlin:20251117T200000
UID:252-30008-20251117T183000@VHSECKENTAL
SUMMARY:Yoga für Frauen - Fortgeschrittene (kleine Gruppe) (252-30008) 
LOCATION:Gründlachhalle Nebenraum Heroldsberg, Schustergasse 5, 90562 Heroldsberg
END:VEVENT
BEGIN:VEVENT
DTSTAMP:20260424T231522
DTSTART;TZID=Europe/Berlin:20251124T183000
DTEND;TZID=Europe/Berlin:20251124T200000
UID:252-30008-20251124T183000@VHSECKENTAL
SUMMARY:Yoga für Frauen - Fortgeschrittene (kleine Gruppe) (252-30008) 
LOCATION:Gründlachhalle Nebenraum Heroldsberg, Schustergasse 5, 90562 Heroldsberg
END:VEVENT
BEGIN:VEVENT
DTSTAMP:20260424T231522
DTSTART;TZID=Europe/Berlin:20251201T183000
DTEND;TZID=Europe/Berlin:20251201T200000
UID:252-30008-20251201T183000@VHSECKENTAL
SUMMARY:Yoga für Frauen - Fortgeschrittene (kleine Gruppe) (252-30008) 
LOCATION:Gründlachhalle Nebenraum Heroldsberg, Schustergasse 5, 90562 Heroldsberg
END:VEVENT
END:VCALENDAR