BEGIN:VCALENDAR
VERSION:2.0
PRODID:http://www.kufer.de/kuferweb / DE
METHOD:PUBLISH
CALSCALE:GREGORIAN
X-WR-TIMEZONE:Europe/Berlin
BEGIN:VTIMEZONE
TZID:Europe/Berlin
X-LIC-LOCATION:Europe/Berlin
BEGIN:DAYLIGHT
TZOFFSETFROM:+0100
TZOFFSETTO:+0200
TZNAME:CEST
DTSTART;TZID=Europe/Berlin:19700329T020000
RRULE:FREQ=YEARLY;INTERVAL=1;BYDAY=-1SU;BYMONTH=3
END:DAYLIGHT
BEGIN:STANDARD
TZOFFSETFROM:+0200
TZOFFSETTO:+0100
TZNAME:CET
DTSTART;TZID=Europe/Berlin:19701025T030000
RRULE:FREQ=YEARLY;INTERVAL=1;BYDAY=-1SU;BYMONTH=10
END:STANDARD
END:VTIMEZONE
BEGIN:VEVENT
DTSTAMP:20260424T022940
DTSTART;TZID=Europe/Berlin:20250928T100000
DTEND;TZID=Europe/Berlin:20250928T113000
UID:252-30013-20250928T100000@VHSECKENTAL
SUMMARY:Hatha-Yoga zum Entspannen und für mehr Lebensqualität (252-30013) 
LOCATION:Interimsgebäude 1.OG Zi-Nr. 123, Ambazac-Straße 5, 90542 Eckental
END:VEVENT
BEGIN:VEVENT
DTSTAMP:20260424T022940
DTSTART;TZID=Europe/Berlin:20251005T100000
DTEND;TZID=Europe/Berlin:20251005T113000
UID:252-30013-20251005T100000@VHSECKENTAL
SUMMARY:Hatha-Yoga zum Entspannen und für mehr Lebensqualität (252-30013) 
LOCATION:Interimsgebäude 1.OG Zi-Nr. 123, Ambazac-Straße 5, 90542 Eckental
END:VEVENT
BEGIN:VEVENT
DTSTAMP:20260424T022940
DTSTART;TZID=Europe/Berlin:20251012T100000
DTEND;TZID=Europe/Berlin:20251012T113000
UID:252-30013-20251012T100000@VHSECKENTAL
SUMMARY:Hatha-Yoga zum Entspannen und für mehr Lebensqualität (252-30013) 
LOCATION:Interimsgebäude 1.OG Zi-Nr. 123, Ambazac-Straße 5, 90542 Eckental
END:VEVENT
BEGIN:VEVENT
DTSTAMP:20260424T022940
DTSTART;TZID=Europe/Berlin:20251019T100000
DTEND;TZID=Europe/Berlin:20251019T113000
UID:252-30013-20251019T100000@VHSECKENTAL
SUMMARY:Hatha-Yoga zum Entspannen und für mehr Lebensqualität (252-30013) 
LOCATION:Interimsgebäude 1.OG Zi-Nr. 123, Ambazac-Straße 5, 90542 Eckental
END:VEVENT
BEGIN:VEVENT
DTSTAMP:20260424T022940
DTSTART;TZID=Europe/Berlin:20251026T100000
DTEND;TZID=Europe/Berlin:20251026T113000
UID:252-30013-20251026T100000@VHSECKENTAL
SUMMARY:Hatha-Yoga zum Entspannen und für mehr Lebensqualität (252-30013) 
LOCATION:Interimsgebäude 1.OG Zi-Nr. 123, Ambazac-Straße 5, 90542 Eckental
END:VEVENT
BEGIN:VEVENT
DTSTAMP:20260424T022940
DTSTART;TZID=Europe/Berlin:20251102T100000
DTEND;TZID=Europe/Berlin:20251102T113000
UID:252-30013-20251102T100000@VHSECKENTAL
SUMMARY:Hatha-Yoga zum Entspannen und für mehr Lebensqualität (252-30013) 
LOCATION:Interimsgebäude 1.OG Zi-Nr. 123, Ambazac-Straße 5, 90542 Eckental
END:VEVENT
BEGIN:VEVENT
DTSTAMP:20260424T022940
DTSTART;TZID=Europe/Berlin:20251116T100000
DTEND;TZID=Europe/Berlin:20251116T113000
UID:252-30013-20251116T100000@VHSECKENTAL
SUMMARY:Hatha-Yoga zum Entspannen und für mehr Lebensqualität (252-30013) 
LOCATION:Interimsgebäude 1.OG Zi-Nr. 123, Ambazac-Straße 5, 90542 Eckental
END:VEVENT
BEGIN:VEVENT
DTSTAMP:20260424T022940
DTSTART;TZID=Europe/Berlin:20251123T100000
DTEND;TZID=Europe/Berlin:20251123T113000
UID:252-30013-20251123T100000@VHSECKENTAL
SUMMARY:Hatha-Yoga zum Entspannen und für mehr Lebensqualität (252-30013) 
LOCATION:Interimsgebäude 1.OG Zi-Nr. 123, Ambazac-Straße 5, 90542 Eckental
END:VEVENT
BEGIN:VEVENT
DTSTAMP:20260424T022940
DTSTART;TZID=Europe/Berlin:20251130T100000
DTEND;TZID=Europe/Berlin:20251130T113000
UID:252-30013-20251130T100000@VHSECKENTAL
SUMMARY:Hatha-Yoga zum Entspannen und für mehr Lebensqualität (252-30013) 
LOCATION:Interimsgebäude 1.OG Zi-Nr. 123, Ambazac-Straße 5, 90542 Eckental
END:VEVENT
BEGIN:VEVENT
DTSTAMP:20260424T022940
DTSTART;TZID=Europe/Berlin:20251207T100000
DTEND;TZID=Europe/Berlin:20251207T113000
UID:252-30013-20251207T100000@VHSECKENTAL
SUMMARY:Hatha-Yoga zum Entspannen und für mehr Lebensqualität (252-30013) 
LOCATION:Interimsgebäude 1.OG Zi-Nr. 123, Ambazac-Straße 5, 90542 Eckental
END:VEVENT
END:VCALENDAR