BEGIN:VCALENDAR
VERSION:2.0
PRODID:http://www.kufer.de/kuferweb / DE
METHOD:PUBLISH
CALSCALE:GREGORIAN
X-WR-TIMEZONE:Europe/Berlin
BEGIN:VTIMEZONE
TZID:Europe/Berlin
X-LIC-LOCATION:Europe/Berlin
BEGIN:DAYLIGHT
TZOFFSETFROM:+0100
TZOFFSETTO:+0200
TZNAME:CEST
DTSTART;TZID=Europe/Berlin:19700329T020000
RRULE:FREQ=YEARLY;INTERVAL=1;BYDAY=-1SU;BYMONTH=3
END:DAYLIGHT
BEGIN:STANDARD
TZOFFSETFROM:+0200
TZOFFSETTO:+0100
TZNAME:CET
DTSTART;TZID=Europe/Berlin:19701025T030000
RRULE:FREQ=YEARLY;INTERVAL=1;BYDAY=-1SU;BYMONTH=10
END:STANDARD
END:VTIMEZONE
BEGIN:VEVENT
DTSTAMP:20260423T161153
DTSTART;TZID=Europe/Berlin:20250929T160000
DTEND;TZID=Europe/Berlin:20250929T173000
UID:252-30020-20250929T160000@VHSECKENTAL
SUMMARY:Yoga für Senioren (252-30020) 
LOCATION:Interimsgebäude 1.OG Zi-Nr. 124, Ambazac-Straße 5, 90542 Eckental
END:VEVENT
BEGIN:VEVENT
DTSTAMP:20260423T161153
DTSTART;TZID=Europe/Berlin:20251006T160000
DTEND;TZID=Europe/Berlin:20251006T173000
UID:252-30020-20251006T160000@VHSECKENTAL
SUMMARY:Yoga für Senioren (252-30020) 
LOCATION:Interimsgebäude 1.OG Zi-Nr. 124, Ambazac-Straße 5, 90542 Eckental
END:VEVENT
BEGIN:VEVENT
DTSTAMP:20260423T161153
DTSTART;TZID=Europe/Berlin:20251013T160000
DTEND;TZID=Europe/Berlin:20251013T173000
UID:252-30020-20251013T160000@VHSECKENTAL
SUMMARY:Yoga für Senioren (252-30020) 
LOCATION:Interimsgebäude 1.OG Zi-Nr. 124, Ambazac-Straße 5, 90542 Eckental
END:VEVENT
BEGIN:VEVENT
DTSTAMP:20260423T161153
DTSTART;TZID=Europe/Berlin:20251020T160000
DTEND;TZID=Europe/Berlin:20251020T173000
UID:252-30020-20251020T160000@VHSECKENTAL
SUMMARY:Yoga für Senioren (252-30020) 
LOCATION:Interimsgebäude 1.OG Zi-Nr. 124, Ambazac-Straße 5, 90542 Eckental
END:VEVENT
BEGIN:VEVENT
DTSTAMP:20260423T161153
DTSTART;TZID=Europe/Berlin:20251027T160000
DTEND;TZID=Europe/Berlin:20251027T173000
UID:252-30020-20251027T160000@VHSECKENTAL
SUMMARY:Yoga für Senioren (252-30020) 
LOCATION:Interimsgebäude 1.OG Zi-Nr. 124, Ambazac-Straße 5, 90542 Eckental
END:VEVENT
BEGIN:VEVENT
DTSTAMP:20260423T161153
DTSTART;TZID=Europe/Berlin:20251110T160000
DTEND;TZID=Europe/Berlin:20251110T173000
UID:252-30020-20251110T160000@VHSECKENTAL
SUMMARY:Yoga für Senioren (252-30020) 
LOCATION:Interimsgebäude 1.OG Zi-Nr. 124, Ambazac-Straße 5, 90542 Eckental
END:VEVENT
BEGIN:VEVENT
DTSTAMP:20260423T161153
DTSTART;TZID=Europe/Berlin:20251117T160000
DTEND;TZID=Europe/Berlin:20251117T173000
UID:252-30020-20251117T160000@VHSECKENTAL
SUMMARY:Yoga für Senioren (252-30020) 
LOCATION:Interimsgebäude 1.OG Zi-Nr. 124, Ambazac-Straße 5, 90542 Eckental
END:VEVENT
BEGIN:VEVENT
DTSTAMP:20260423T161153
DTSTART;TZID=Europe/Berlin:20251124T160000
DTEND;TZID=Europe/Berlin:20251124T173000
UID:252-30020-20251124T160000@VHSECKENTAL
SUMMARY:Yoga für Senioren (252-30020) 
LOCATION:Interimsgebäude 1.OG Zi-Nr. 124, Ambazac-Straße 5, 90542 Eckental
END:VEVENT
BEGIN:VEVENT
DTSTAMP:20260423T161153
DTSTART;TZID=Europe/Berlin:20251201T160000
DTEND;TZID=Europe/Berlin:20251201T173000
UID:252-30020-20251201T160000@VHSECKENTAL
SUMMARY:Yoga für Senioren (252-30020) 
LOCATION:Interimsgebäude 1.OG Zi-Nr. 124, Ambazac-Straße 5, 90542 Eckental
END:VEVENT
BEGIN:VEVENT
DTSTAMP:20260423T161153
DTSTART;TZID=Europe/Berlin:20251208T160000
DTEND;TZID=Europe/Berlin:20251208T173000
UID:252-30020-20251208T160000@VHSECKENTAL
SUMMARY:Yoga für Senioren (252-30020) 
LOCATION:Interimsgebäude 1.OG Zi-Nr. 124, Ambazac-Straße 5, 90542 Eckental
END:VEVENT
BEGIN:VEVENT
DTSTAMP:20260423T161153
DTSTART;TZID=Europe/Berlin:20251215T160000
DTEND;TZID=Europe/Berlin:20251215T173000
UID:252-30020-20251215T160000@VHSECKENTAL
SUMMARY:Yoga für Senioren (252-30020) 
LOCATION:Interimsgebäude 1.OG Zi-Nr. 124, Ambazac-Straße 5, 90542 Eckental
END:VEVENT
BEGIN:VEVENT
DTSTAMP:20260423T161153
DTSTART;TZID=Europe/Berlin:20260112T160000
DTEND;TZID=Europe/Berlin:20260112T173000
UID:252-30020-20260112T160000@VHSECKENTAL
SUMMARY:Yoga für Senioren (252-30020) 
LOCATION:Interimsgebäude 1.OG Zi-Nr. 124, Ambazac-Straße 5, 90542 Eckental
END:VEVENT
BEGIN:VEVENT
DTSTAMP:20260423T161153
DTSTART;TZID=Europe/Berlin:20260119T160000
DTEND;TZID=Europe/Berlin:20260119T173000
UID:252-30020-20260119T160000@VHSECKENTAL
SUMMARY:Yoga für Senioren (252-30020) 
LOCATION:Interimsgebäude 1.OG Zi-Nr. 124, Ambazac-Straße 5, 90542 Eckental
END:VEVENT
BEGIN:VEVENT
DTSTAMP:20260423T161153
DTSTART;TZID=Europe/Berlin:20260202T160000
DTEND;TZID=Europe/Berlin:20260202T173000
UID:252-30020-20260202T160000@VHSECKENTAL
SUMMARY:Yoga für Senioren (252-30020) 
LOCATION:Interimsgebäude 1.OG Zi-Nr. 124, Ambazac-Straße 5, 90542 Eckental
END:VEVENT
BEGIN:VEVENT
DTSTAMP:20260423T161153
DTSTART;TZID=Europe/Berlin:20260209T160000
DTEND;TZID=Europe/Berlin:20260209T173000
UID:252-30020-20260209T160000@VHSECKENTAL
DESCRIPTION:ERsatz für 13.10.
SUMMARY:Yoga für Senioren (252-30020) 
LOCATION:Interimsgebäude 1.OG Zi-Nr. 124, Ambazac-Straße 5, 90542 Eckental
END:VEVENT
BEGIN:VEVENT
DTSTAMP:20260423T161153
DTSTART;TZID=Europe/Berlin:20260223T160000
DTEND;TZID=Europe/Berlin:20260223T173000
UID:252-30020-20260223T160000@VHSECKENTAL
SUMMARY:Yoga für Senioren (252-30020) 
LOCATION:Interimsgebäude 1.OG Zi-Nr. 124, Ambazac-Straße 5, 90542 Eckental
END:VEVENT
END:VCALENDAR