BEGIN:VCALENDAR
VERSION:2.0
PRODID:http://www.kufer.de/kuferweb / DE
METHOD:PUBLISH
CALSCALE:GREGORIAN
X-WR-TIMEZONE:Europe/Berlin
BEGIN:VTIMEZONE
TZID:Europe/Berlin
X-LIC-LOCATION:Europe/Berlin
BEGIN:DAYLIGHT
TZOFFSETFROM:+0100
TZOFFSETTO:+0200
TZNAME:CEST
DTSTART;TZID=Europe/Berlin:19700329T020000
RRULE:FREQ=YEARLY;INTERVAL=1;BYDAY=-1SU;BYMONTH=3
END:DAYLIGHT
BEGIN:STANDARD
TZOFFSETFROM:+0200
TZOFFSETTO:+0100
TZNAME:CET
DTSTART;TZID=Europe/Berlin:19701025T030000
RRULE:FREQ=YEARLY;INTERVAL=1;BYDAY=-1SU;BYMONTH=10
END:STANDARD
END:VTIMEZONE
BEGIN:VEVENT
DTSTAMP:20260423T032248
DTSTART;TZID=Europe/Berlin:20251018T100000
DTEND;TZID=Europe/Berlin:20251018T110000
UID:252-30021-20251018T100000@VHSECKENTAL
SUMMARY:Schulter und Nacken Yoga   (252-30021) 
LOCATION:Interimsgebäude 1.OG Zi-Nr. 123, Ambazac-Straße 5, 90542 Eckental
END:VEVENT
BEGIN:VEVENT
DTSTAMP:20260423T032248
DTSTART;TZID=Europe/Berlin:20251025T100000
DTEND;TZID=Europe/Berlin:20251025T110000
UID:252-30021-20251025T100000@VHSECKENTAL
SUMMARY:Schulter und Nacken Yoga   (252-30021) 
LOCATION:Interimsgebäude 1.OG Zi-Nr. 123, Ambazac-Straße 5, 90542 Eckental
END:VEVENT
BEGIN:VEVENT
DTSTAMP:20260423T032248
DTSTART;TZID=Europe/Berlin:20251115T100000
DTEND;TZID=Europe/Berlin:20251115T110000
UID:252-30021-20251115T100000@VHSECKENTAL
SUMMARY:Schulter und Nacken Yoga   (252-30021) 
LOCATION:Interimsgebäude 1.OG Zi-Nr. 123, Ambazac-Straße 5, 90542 Eckental
END:VEVENT
BEGIN:VEVENT
DTSTAMP:20260423T032248
DTSTART;TZID=Europe/Berlin:20251129T100000
DTEND;TZID=Europe/Berlin:20251129T110000
UID:252-30021-20251129T100000@VHSECKENTAL
SUMMARY:Schulter und Nacken Yoga   (252-30021) 
LOCATION:Interimsgebäude 1.OG Zi-Nr. 123, Ambazac-Straße 5, 90542 Eckental
END:VEVENT
BEGIN:VEVENT
DTSTAMP:20260423T032248
DTSTART;TZID=Europe/Berlin:20251213T100000
DTEND;TZID=Europe/Berlin:20251213T110000
UID:252-30021-20251213T100000@VHSECKENTAL
SUMMARY:Schulter und Nacken Yoga   (252-30021) 
LOCATION:Interimsgebäude 1.OG Zi-Nr. 123, Ambazac-Straße 5, 90542 Eckental
END:VEVENT
BEGIN:VEVENT
DTSTAMP:20260423T032248
DTSTART;TZID=Europe/Berlin:20251220T100000
DTEND;TZID=Europe/Berlin:20251220T110000
UID:252-30021-20251220T100000@VHSECKENTAL
SUMMARY:Schulter und Nacken Yoga   (252-30021) 
LOCATION:Interimsgebäude 1.OG Zi-Nr. 123, Ambazac-Straße 5, 90542 Eckental
END:VEVENT
BEGIN:VEVENT
DTSTAMP:20260423T032248
DTSTART;TZID=Europe/Berlin:20260110T100000
DTEND;TZID=Europe/Berlin:20260110T110000
UID:252-30021-20260110T100000@VHSECKENTAL
SUMMARY:Schulter und Nacken Yoga   (252-30021) 
LOCATION:Interimsgebäude 1.OG Zi-Nr. 123, Ambazac-Straße 5, 90542 Eckental
END:VEVENT
BEGIN:VEVENT
DTSTAMP:20260423T032248
DTSTART;TZID=Europe/Berlin:20260117T100000
DTEND;TZID=Europe/Berlin:20260117T110000
UID:252-30021-20260117T100000@VHSECKENTAL
SUMMARY:Schulter und Nacken Yoga   (252-30021) 
LOCATION:Interimsgebäude 1.OG Zi-Nr. 123, Ambazac-Straße 5, 90542 Eckental
END:VEVENT
BEGIN:VEVENT
DTSTAMP:20260423T032248
DTSTART;TZID=Europe/Berlin:20260131T100000
DTEND;TZID=Europe/Berlin:20260131T110000
UID:252-30021-20260131T100000@VHSECKENTAL
SUMMARY:Schulter und Nacken Yoga   (252-30021) 
LOCATION:Interimsgebäude 1.OG Zi-Nr. 123, Ambazac-Straße 5, 90542 Eckental
END:VEVENT
BEGIN:VEVENT
DTSTAMP:20260423T032248
DTSTART;TZID=Europe/Berlin:20260214T100000
DTEND;TZID=Europe/Berlin:20260214T110000
UID:252-30021-20260214T100000@VHSECKENTAL
SUMMARY:Schulter und Nacken Yoga   (252-30021) 
LOCATION:Interimsgebäude 1.OG Zi-Nr. 123, Ambazac-Straße 5, 90542 Eckental
END:VEVENT
END:VCALENDAR