BEGIN:VCALENDAR
VERSION:2.0
PRODID:http://www.kufer.de/kuferweb / DE
METHOD:PUBLISH
CALSCALE:GREGORIAN
X-WR-TIMEZONE:Europe/Berlin
BEGIN:VTIMEZONE
TZID:Europe/Berlin
X-LIC-LOCATION:Europe/Berlin
BEGIN:DAYLIGHT
TZOFFSETFROM:+0100
TZOFFSETTO:+0200
TZNAME:CEST
DTSTART;TZID=Europe/Berlin:19700329T020000
RRULE:FREQ=YEARLY;INTERVAL=1;BYDAY=-1SU;BYMONTH=3
END:DAYLIGHT
BEGIN:STANDARD
TZOFFSETFROM:+0200
TZOFFSETTO:+0100
TZNAME:CET
DTSTART;TZID=Europe/Berlin:19701025T030000
RRULE:FREQ=YEARLY;INTERVAL=1;BYDAY=-1SU;BYMONTH=10
END:STANDARD
END:VTIMEZONE
BEGIN:VEVENT
DTSTAMP:20260425T005759
DTSTART;TZID=Europe/Berlin:20251023T090000
DTEND;TZID=Europe/Berlin:20251023T100000
UID:252-30046-20251023T090000@VHSECKENTAL
SUMMARY:Bodytraining - Funktionsgymnastik (252-30046) 
LOCATION:Georg-Hänfling-Halle UG, Pfarrgarten 1, 90542 Eckental
END:VEVENT
BEGIN:VEVENT
DTSTAMP:20260425T005759
DTSTART;TZID=Europe/Berlin:20251030T090000
DTEND;TZID=Europe/Berlin:20251030T100000
UID:252-30046-20251030T090000@VHSECKENTAL
SUMMARY:Bodytraining - Funktionsgymnastik (252-30046) 
LOCATION:Georg-Hänfling-Halle UG, Pfarrgarten 1, 90542 Eckental
END:VEVENT
BEGIN:VEVENT
DTSTAMP:20260425T005759
DTSTART;TZID=Europe/Berlin:20251113T090000
DTEND;TZID=Europe/Berlin:20251113T100000
UID:252-30046-20251113T090000@VHSECKENTAL
SUMMARY:Bodytraining - Funktionsgymnastik (252-30046) 
LOCATION:Georg-Hänfling-Halle UG, Pfarrgarten 1, 90542 Eckental
END:VEVENT
BEGIN:VEVENT
DTSTAMP:20260425T005759
DTSTART;TZID=Europe/Berlin:20251120T090000
DTEND;TZID=Europe/Berlin:20251120T100000
UID:252-30046-20251120T090000@VHSECKENTAL
SUMMARY:Bodytraining - Funktionsgymnastik (252-30046) 
LOCATION:Georg-Hänfling-Halle UG, Pfarrgarten 1, 90542 Eckental
END:VEVENT
BEGIN:VEVENT
DTSTAMP:20260425T005759
DTSTART;TZID=Europe/Berlin:20251127T090000
DTEND;TZID=Europe/Berlin:20251127T100000
UID:252-30046-20251127T090000@VHSECKENTAL
SUMMARY:Bodytraining - Funktionsgymnastik (252-30046) 
LOCATION:Georg-Hänfling-Halle UG, Pfarrgarten 1, 90542 Eckental
END:VEVENT
BEGIN:VEVENT
DTSTAMP:20260425T005759
DTSTART;TZID=Europe/Berlin:20251204T090000
DTEND;TZID=Europe/Berlin:20251204T100000
UID:252-30046-20251204T090000@VHSECKENTAL
SUMMARY:Bodytraining - Funktionsgymnastik (252-30046) 
LOCATION:Georg-Hänfling-Halle UG, Pfarrgarten 1, 90542 Eckental
END:VEVENT
BEGIN:VEVENT
DTSTAMP:20260425T005759
DTSTART;TZID=Europe/Berlin:20251211T090000
DTEND;TZID=Europe/Berlin:20251211T100000
UID:252-30046-20251211T090000@VHSECKENTAL
SUMMARY:Bodytraining - Funktionsgymnastik (252-30046) 
LOCATION:Georg-Hänfling-Halle UG, Pfarrgarten 1, 90542 Eckental
END:VEVENT
BEGIN:VEVENT
DTSTAMP:20260425T005759
DTSTART;TZID=Europe/Berlin:20251218T090000
DTEND;TZID=Europe/Berlin:20251218T100000
UID:252-30046-20251218T090000@VHSECKENTAL
SUMMARY:Bodytraining - Funktionsgymnastik (252-30046) 
LOCATION:Georg-Hänfling-Halle UG, Pfarrgarten 1, 90542 Eckental
END:VEVENT
BEGIN:VEVENT
DTSTAMP:20260425T005759
DTSTART;TZID=Europe/Berlin:20260108T090000
DTEND;TZID=Europe/Berlin:20260108T100000
UID:252-30046-20260108T090000@VHSECKENTAL
SUMMARY:Bodytraining - Funktionsgymnastik (252-30046) 
LOCATION:Georg-Hänfling-Halle UG, Pfarrgarten 1, 90542 Eckental
END:VEVENT
BEGIN:VEVENT
DTSTAMP:20260425T005759
DTSTART;TZID=Europe/Berlin:20260115T090000
DTEND;TZID=Europe/Berlin:20260115T100000
UID:252-30046-20260115T090000@VHSECKENTAL
SUMMARY:Bodytraining - Funktionsgymnastik (252-30046) 
LOCATION:Georg-Hänfling-Halle UG, Pfarrgarten 1, 90542 Eckental
END:VEVENT
BEGIN:VEVENT
DTSTAMP:20260425T005759
DTSTART;TZID=Europe/Berlin:20260122T090000
DTEND;TZID=Europe/Berlin:20260122T100000
UID:252-30046-20260122T090000@VHSECKENTAL
SUMMARY:Bodytraining - Funktionsgymnastik (252-30046) 
LOCATION:Georg-Hänfling-Halle UG, Pfarrgarten 1, 90542 Eckental
END:VEVENT
BEGIN:VEVENT
DTSTAMP:20260425T005759
DTSTART;TZID=Europe/Berlin:20260129T090000
DTEND;TZID=Europe/Berlin:20260129T100000
UID:252-30046-20260129T090000@VHSECKENTAL
SUMMARY:Bodytraining - Funktionsgymnastik (252-30046) 
LOCATION:Georg-Hänfling-Halle UG, Pfarrgarten 1, 90542 Eckental
END:VEVENT
BEGIN:VEVENT
DTSTAMP:20260425T005759
DTSTART;TZID=Europe/Berlin:20260205T090000
DTEND;TZID=Europe/Berlin:20260205T100000
UID:252-30046-20260205T090000@VHSECKENTAL
SUMMARY:Bodytraining - Funktionsgymnastik (252-30046) 
LOCATION:Georg-Hänfling-Halle UG, Pfarrgarten 1, 90542 Eckental
END:VEVENT
BEGIN:VEVENT
DTSTAMP:20260425T005759
DTSTART;TZID=Europe/Berlin:20260212T090000
DTEND;TZID=Europe/Berlin:20260212T100000
UID:252-30046-20260212T090000@VHSECKENTAL
SUMMARY:Bodytraining - Funktionsgymnastik (252-30046) 
LOCATION:Georg-Hänfling-Halle UG, Pfarrgarten 1, 90542 Eckental
END:VEVENT
BEGIN:VEVENT
DTSTAMP:20260425T005759
DTSTART;TZID=Europe/Berlin:20260226T090000
DTEND;TZID=Europe/Berlin:20260226T100000
UID:252-30046-20260226T090000@VHSECKENTAL
SUMMARY:Bodytraining - Funktionsgymnastik (252-30046) 
LOCATION:Georg-Hänfling-Halle UG, Pfarrgarten 1, 90542 Eckental
END:VEVENT
BEGIN:VEVENT
DTSTAMP:20260425T005759
DTSTART;TZID=Europe/Berlin:20260305T090000
DTEND;TZID=Europe/Berlin:20260305T100000
UID:252-30046-20260305T090000@VHSECKENTAL
SUMMARY:Bodytraining - Funktionsgymnastik (252-30046) 
LOCATION:Georg-Hänfling-Halle UG, Pfarrgarten 1, 90542 Eckental
END:VEVENT
END:VCALENDAR