BEGIN:VCALENDAR
VERSION:2.0
PRODID:http://www.kufer.de/kuferweb / DE
METHOD:PUBLISH
CALSCALE:GREGORIAN
X-WR-TIMEZONE:Europe/Berlin
BEGIN:VTIMEZONE
TZID:Europe/Berlin
X-LIC-LOCATION:Europe/Berlin
BEGIN:DAYLIGHT
TZOFFSETFROM:+0100
TZOFFSETTO:+0200
TZNAME:CEST
DTSTART;TZID=Europe/Berlin:19700329T020000
RRULE:FREQ=YEARLY;INTERVAL=1;BYDAY=-1SU;BYMONTH=3
END:DAYLIGHT
BEGIN:STANDARD
TZOFFSETFROM:+0200
TZOFFSETTO:+0100
TZNAME:CET
DTSTART;TZID=Europe/Berlin:19701025T030000
RRULE:FREQ=YEARLY;INTERVAL=1;BYDAY=-1SU;BYMONTH=10
END:STANDARD
END:VTIMEZONE
BEGIN:VEVENT
DTSTAMP:20260424T123004
DTSTART;TZID=Europe/Berlin:20250923T180000
DTEND;TZID=Europe/Berlin:20250923T193000
UID:252-40204-20250923T180000@VHSECKENTAL
SUMMARY:English beginner course A1  kleine Gruppe (252-40204) 
LOCATION:Interimsgebäude 1.OG Zi-Nr. 121, Ambazac-Straße 5, 90542 Eckental
END:VEVENT
BEGIN:VEVENT
DTSTAMP:20260424T123004
DTSTART;TZID=Europe/Berlin:20250930T180000
DTEND;TZID=Europe/Berlin:20250930T193000
UID:252-40204-20250930T180000@VHSECKENTAL
SUMMARY:English beginner course A1  kleine Gruppe (252-40204) 
LOCATION:Interimsgebäude 1.OG Zi-Nr. 121, Ambazac-Straße 5, 90542 Eckental
END:VEVENT
BEGIN:VEVENT
DTSTAMP:20260424T123004
DTSTART;TZID=Europe/Berlin:20251014T180000
DTEND;TZID=Europe/Berlin:20251014T193000
UID:252-40204-20251014T180000@VHSECKENTAL
SUMMARY:English beginner course A1  kleine Gruppe (252-40204) 
LOCATION:Interimsgebäude 1.OG Zi-Nr. 121, Ambazac-Straße 5, 90542 Eckental
END:VEVENT
BEGIN:VEVENT
DTSTAMP:20260424T123004
DTSTART;TZID=Europe/Berlin:20251021T180000
DTEND;TZID=Europe/Berlin:20251021T193000
UID:252-40204-20251021T180000@VHSECKENTAL
SUMMARY:English beginner course A1  kleine Gruppe (252-40204) 
LOCATION:Interimsgebäude 1.OG Zi-Nr. 121, Ambazac-Straße 5, 90542 Eckental
END:VEVENT
BEGIN:VEVENT
DTSTAMP:20260424T123004
DTSTART;TZID=Europe/Berlin:20251028T180000
DTEND;TZID=Europe/Berlin:20251028T193000
UID:252-40204-20251028T180000@VHSECKENTAL
SUMMARY:English beginner course A1  kleine Gruppe (252-40204) 
LOCATION:Interimsgebäude 1.OG Zi-Nr. 121, Ambazac-Straße 5, 90542 Eckental
END:VEVENT
BEGIN:VEVENT
DTSTAMP:20260424T123004
DTSTART;TZID=Europe/Berlin:20251111T180000
DTEND;TZID=Europe/Berlin:20251111T193000
UID:252-40204-20251111T180000@VHSECKENTAL
SUMMARY:English beginner course A1  kleine Gruppe (252-40204) 
LOCATION:Interimsgebäude 1.OG Zi-Nr. 121, Ambazac-Straße 5, 90542 Eckental
END:VEVENT
BEGIN:VEVENT
DTSTAMP:20260424T123004
DTSTART;TZID=Europe/Berlin:20251118T180000
DTEND;TZID=Europe/Berlin:20251118T193000
UID:252-40204-20251118T180000@VHSECKENTAL
SUMMARY:English beginner course A1  kleine Gruppe (252-40204) 
LOCATION:Interimsgebäude 1.OG Zi-Nr. 121, Ambazac-Straße 5, 90542 Eckental
END:VEVENT
BEGIN:VEVENT
DTSTAMP:20260424T123004
DTSTART;TZID=Europe/Berlin:20251125T180000
DTEND;TZID=Europe/Berlin:20251125T193000
UID:252-40204-20251125T180000@VHSECKENTAL
SUMMARY:English beginner course A1  kleine Gruppe (252-40204) 
LOCATION:Interimsgebäude 1.OG Zi-Nr. 121, Ambazac-Straße 5, 90542 Eckental
END:VEVENT
BEGIN:VEVENT
DTSTAMP:20260424T123004
DTSTART;TZID=Europe/Berlin:20251202T180000
DTEND;TZID=Europe/Berlin:20251202T193000
UID:252-40204-20251202T180000@VHSECKENTAL
SUMMARY:English beginner course A1  kleine Gruppe (252-40204) 
LOCATION:Interimsgebäude 1.OG Zi-Nr. 121, Ambazac-Straße 5, 90542 Eckental
END:VEVENT
BEGIN:VEVENT
DTSTAMP:20260424T123004
DTSTART;TZID=Europe/Berlin:20251209T180000
DTEND;TZID=Europe/Berlin:20251209T193000
UID:252-40204-20251209T180000@VHSECKENTAL
SUMMARY:English beginner course A1  kleine Gruppe (252-40204) 
LOCATION:Interimsgebäude 1.OG Zi-Nr. 121, Ambazac-Straße 5, 90542 Eckental
END:VEVENT
BEGIN:VEVENT
DTSTAMP:20260424T123004
DTSTART;TZID=Europe/Berlin:20251216T180000
DTEND;TZID=Europe/Berlin:20251216T193000
UID:252-40204-20251216T180000@VHSECKENTAL
SUMMARY:English beginner course A1  kleine Gruppe (252-40204) 
LOCATION:Interimsgebäude 1.OG Zi-Nr. 121, Ambazac-Straße 5, 90542 Eckental
END:VEVENT
BEGIN:VEVENT
DTSTAMP:20260424T123004
DTSTART;TZID=Europe/Berlin:20260113T180000
DTEND;TZID=Europe/Berlin:20260113T193000
UID:252-40204-20260113T180000@VHSECKENTAL
SUMMARY:English beginner course A1  kleine Gruppe (252-40204) 
LOCATION:Interimsgebäude 1.OG Zi-Nr. 121, Ambazac-Straße 5, 90542 Eckental
END:VEVENT
BEGIN:VEVENT
DTSTAMP:20260424T123004
DTSTART;TZID=Europe/Berlin:20260120T180000
DTEND;TZID=Europe/Berlin:20260120T193000
UID:252-40204-20260120T180000@VHSECKENTAL
SUMMARY:English beginner course A1  kleine Gruppe (252-40204) 
LOCATION:Interimsgebäude 1.OG Zi-Nr. 121, Ambazac-Straße 5, 90542 Eckental
END:VEVENT
BEGIN:VEVENT
DTSTAMP:20260424T123004
DTSTART;TZID=Europe/Berlin:20260127T180000
DTEND;TZID=Europe/Berlin:20260127T193000
UID:252-40204-20260127T180000@VHSECKENTAL
SUMMARY:English beginner course A1  kleine Gruppe (252-40204) 
LOCATION:Interimsgebäude 1.OG Zi-Nr. 121, Ambazac-Straße 5, 90542 Eckental
END:VEVENT
BEGIN:VEVENT
DTSTAMP:20260424T123004
DTSTART;TZID=Europe/Berlin:20260203T180000
DTEND;TZID=Europe/Berlin:20260203T193000
UID:252-40204-20260203T180000@VHSECKENTAL
DESCRIPTION:Ersatz für 7.10.
SUMMARY:English beginner course A1  kleine Gruppe (252-40204) 
LOCATION:Interimsgebäude 1.OG Zi-Nr. 121, Ambazac-Straße 5, 90542 Eckental
END:VEVENT
END:VCALENDAR