BEGIN:VCALENDAR
VERSION:2.0
PRODID:http://www.kufer.de/kuferweb / DE
METHOD:PUBLISH
CALSCALE:GREGORIAN
X-WR-TIMEZONE:Europe/Berlin
BEGIN:VTIMEZONE
TZID:Europe/Berlin
X-LIC-LOCATION:Europe/Berlin
BEGIN:DAYLIGHT
TZOFFSETFROM:+0100
TZOFFSETTO:+0200
TZNAME:CEST
DTSTART;TZID=Europe/Berlin:19700329T020000
RRULE:FREQ=YEARLY;INTERVAL=1;BYDAY=-1SU;BYMONTH=3
END:DAYLIGHT
BEGIN:STANDARD
TZOFFSETFROM:+0200
TZOFFSETTO:+0100
TZNAME:CET
DTSTART;TZID=Europe/Berlin:19701025T030000
RRULE:FREQ=YEARLY;INTERVAL=1;BYDAY=-1SU;BYMONTH=10
END:STANDARD
END:VTIMEZONE
BEGIN:VEVENT
DTSTAMP:20260424T122945
DTSTART;TZID=Europe/Berlin:20250929T174500
DTEND;TZID=Europe/Berlin:20250929T191500
UID:252-40205-20250929T174500@VHSECKENTAL
SUMMARY:Englisch für Anfänger A2 Für Teilnehmer  mit ersten Vorkenntnissen (252-40205) 
LOCATION:Interimsgebäude 1.OG Zi-Nr. 122, Ambazac-Straße 5, 90542 Eckental
END:VEVENT
BEGIN:VEVENT
DTSTAMP:20260424T122945
DTSTART;TZID=Europe/Berlin:20251006T174500
DTEND;TZID=Europe/Berlin:20251006T191500
UID:252-40205-20251006T174500@VHSECKENTAL
SUMMARY:Englisch für Anfänger A2 Für Teilnehmer  mit ersten Vorkenntnissen (252-40205) 
LOCATION:Interimsgebäude 1.OG Zi-Nr. 122, Ambazac-Straße 5, 90542 Eckental
END:VEVENT
BEGIN:VEVENT
DTSTAMP:20260424T122945
DTSTART;TZID=Europe/Berlin:20251013T174500
DTEND;TZID=Europe/Berlin:20251013T191500
UID:252-40205-20251013T174500@VHSECKENTAL
SUMMARY:Englisch für Anfänger A2 Für Teilnehmer  mit ersten Vorkenntnissen (252-40205) 
LOCATION:Interimsgebäude 1.OG Zi-Nr. 122, Ambazac-Straße 5, 90542 Eckental
END:VEVENT
BEGIN:VEVENT
DTSTAMP:20260424T122945
DTSTART;TZID=Europe/Berlin:20251027T174500
DTEND;TZID=Europe/Berlin:20251027T191500
UID:252-40205-20251027T174500@VHSECKENTAL
SUMMARY:Englisch für Anfänger A2 Für Teilnehmer  mit ersten Vorkenntnissen (252-40205) 
LOCATION:Interimsgebäude 1.OG Zi-Nr. 122, Ambazac-Straße 5, 90542 Eckental
END:VEVENT
BEGIN:VEVENT
DTSTAMP:20260424T122945
DTSTART;TZID=Europe/Berlin:20251110T174500
DTEND;TZID=Europe/Berlin:20251110T191500
UID:252-40205-20251110T174500@VHSECKENTAL
SUMMARY:Englisch für Anfänger A2 Für Teilnehmer  mit ersten Vorkenntnissen (252-40205) 
LOCATION:Interimsgebäude 1.OG Zi-Nr. 122, Ambazac-Straße 5, 90542 Eckental
END:VEVENT
BEGIN:VEVENT
DTSTAMP:20260424T122945
DTSTART;TZID=Europe/Berlin:20251117T174500
DTEND;TZID=Europe/Berlin:20251117T191500
UID:252-40205-20251117T174500@VHSECKENTAL
SUMMARY:Englisch für Anfänger A2 Für Teilnehmer  mit ersten Vorkenntnissen (252-40205) 
LOCATION:Interimsgebäude 1.OG Zi-Nr. 122, Ambazac-Straße 5, 90542 Eckental
END:VEVENT
BEGIN:VEVENT
DTSTAMP:20260424T122945
DTSTART;TZID=Europe/Berlin:20251124T174500
DTEND;TZID=Europe/Berlin:20251124T191500
UID:252-40205-20251124T174500@VHSECKENTAL
SUMMARY:Englisch für Anfänger A2 Für Teilnehmer  mit ersten Vorkenntnissen (252-40205) 
LOCATION:Interimsgebäude 1.OG Zi-Nr. 122, Ambazac-Straße 5, 90542 Eckental
END:VEVENT
BEGIN:VEVENT
DTSTAMP:20260424T122945
DTSTART;TZID=Europe/Berlin:20251208T174500
DTEND;TZID=Europe/Berlin:20251208T191500
UID:252-40205-20251208T174500@VHSECKENTAL
SUMMARY:Englisch für Anfänger A2 Für Teilnehmer  mit ersten Vorkenntnissen (252-40205) 
LOCATION:Interimsgebäude 1.OG Zi-Nr. 122, Ambazac-Straße 5, 90542 Eckental
END:VEVENT
BEGIN:VEVENT
DTSTAMP:20260424T122945
DTSTART;TZID=Europe/Berlin:20251215T174500
DTEND;TZID=Europe/Berlin:20251215T191500
UID:252-40205-20251215T174500@VHSECKENTAL
SUMMARY:Englisch für Anfänger A2 Für Teilnehmer  mit ersten Vorkenntnissen (252-40205) 
LOCATION:Interimsgebäude 1.OG Zi-Nr. 122, Ambazac-Straße 5, 90542 Eckental
END:VEVENT
BEGIN:VEVENT
DTSTAMP:20260424T122945
DTSTART;TZID=Europe/Berlin:20260119T174500
DTEND;TZID=Europe/Berlin:20260119T191500
UID:252-40205-20260119T174500@VHSECKENTAL
SUMMARY:Englisch für Anfänger A2 Für Teilnehmer  mit ersten Vorkenntnissen (252-40205) 
LOCATION:Interimsgebäude 1.OG Zi-Nr. 122, Ambazac-Straße 5, 90542 Eckental
END:VEVENT
BEGIN:VEVENT
DTSTAMP:20260424T122945
DTSTART;TZID=Europe/Berlin:20260202T174500
DTEND;TZID=Europe/Berlin:20260202T191500
UID:252-40205-20260202T174500@VHSECKENTAL
SUMMARY:Englisch für Anfänger A2 Für Teilnehmer  mit ersten Vorkenntnissen (252-40205) 
LOCATION:Interimsgebäude 1.OG Zi-Nr. 122, Ambazac-Straße 5, 90542 Eckental
END:VEVENT
BEGIN:VEVENT
DTSTAMP:20260424T122945
DTSTART;TZID=Europe/Berlin:20260209T174500
DTEND;TZID=Europe/Berlin:20260209T191500
UID:252-40205-20260209T174500@VHSECKENTAL
DESCRIPTION:Ersatz 22.09
SUMMARY:Englisch für Anfänger A2 Für Teilnehmer  mit ersten Vorkenntnissen (252-40205) 
LOCATION:Interimsgebäude 1.OG Zi-Nr. 122, Ambazac-Straße 5, 90542 Eckental
END:VEVENT
BEGIN:VEVENT
DTSTAMP:20260424T122945
DTSTART;TZID=Europe/Berlin:20260216T174500
DTEND;TZID=Europe/Berlin:20260216T191500
UID:252-40205-20260216T174500@VHSECKENTAL
DESCRIPTION:Ersatz für 12.1.
SUMMARY:Englisch für Anfänger A2 Für Teilnehmer  mit ersten Vorkenntnissen (252-40205) 
LOCATION:Interimsgebäude 1.OG Zi-Nr. 122, Ambazac-Straße 5, 90542 Eckental
END:VEVENT
BEGIN:VEVENT
DTSTAMP:20260424T122945
DTSTART;TZID=Europe/Berlin:20260223T174500
DTEND;TZID=Europe/Berlin:20260223T191500
UID:252-40205-20260223T174500@VHSECKENTAL
DESCRIPTION:Ersatz für 20.10.
SUMMARY:Englisch für Anfänger A2 Für Teilnehmer  mit ersten Vorkenntnissen (252-40205) 
LOCATION:Interimsgebäude 1.OG Zi-Nr. 122, Ambazac-Straße 5, 90542 Eckental
END:VEVENT
BEGIN:VEVENT
DTSTAMP:20260424T122945
DTSTART;TZID=Europe/Berlin:20260302T174500
DTEND;TZID=Europe/Berlin:20260302T191500
UID:252-40205-20260302T174500@VHSECKENTAL
DESCRIPTION:Ersatz
SUMMARY:Englisch für Anfänger A2 Für Teilnehmer  mit ersten Vorkenntnissen (252-40205) 
LOCATION:online, , 
END:VEVENT
END:VCALENDAR