BEGIN:VCALENDAR
VERSION:2.0
PRODID:http://www.kufer.de/kuferweb / DE
METHOD:PUBLISH
CALSCALE:GREGORIAN
X-WR-TIMEZONE:Europe/Berlin
BEGIN:VTIMEZONE
TZID:Europe/Berlin
X-LIC-LOCATION:Europe/Berlin
BEGIN:DAYLIGHT
TZOFFSETFROM:+0100
TZOFFSETTO:+0200
TZNAME:CEST
DTSTART;TZID=Europe/Berlin:19700329T020000
RRULE:FREQ=YEARLY;INTERVAL=1;BYDAY=-1SU;BYMONTH=3
END:DAYLIGHT
BEGIN:STANDARD
TZOFFSETFROM:+0200
TZOFFSETTO:+0100
TZNAME:CET
DTSTART;TZID=Europe/Berlin:19701025T030000
RRULE:FREQ=YEARLY;INTERVAL=1;BYDAY=-1SU;BYMONTH=10
END:STANDARD
END:VTIMEZONE
BEGIN:VEVENT
DTSTAMP:20260423T011121
DTSTART;TZID=Europe/Berlin:20250918T110000
DTEND;TZID=Europe/Berlin:20250918T123000
UID:252-40206-20250918T110000@VHSECKENTAL
SUMMARY:Englisch für Senioren - A2 (252-40206) 
LOCATION:Haus der Vereine, Zum Bären 4, Haus der Vereine, Zum Bären 4, 90562 Heroldsberg
END:VEVENT
BEGIN:VEVENT
DTSTAMP:20260423T011121
DTSTART;TZID=Europe/Berlin:20250925T110000
DTEND;TZID=Europe/Berlin:20250925T123000
UID:252-40206-20250925T110000@VHSECKENTAL
SUMMARY:Englisch für Senioren - A2 (252-40206) 
LOCATION:Haus der Vereine, Zum Bären 4, Haus der Vereine, Zum Bären 4, 90562 Heroldsberg
END:VEVENT
BEGIN:VEVENT
DTSTAMP:20260423T011121
DTSTART;TZID=Europe/Berlin:20251002T110000
DTEND;TZID=Europe/Berlin:20251002T123000
UID:252-40206-20251002T110000@VHSECKENTAL
SUMMARY:Englisch für Senioren - A2 (252-40206) 
LOCATION:Haus der Vereine, Zum Bären 4, Haus der Vereine, Zum Bären 4, 90562 Heroldsberg
END:VEVENT
BEGIN:VEVENT
DTSTAMP:20260423T011121
DTSTART;TZID=Europe/Berlin:20251009T110000
DTEND;TZID=Europe/Berlin:20251009T123000
UID:252-40206-20251009T110000@VHSECKENTAL
SUMMARY:Englisch für Senioren - A2 (252-40206) 
LOCATION:Haus der Vereine, Zum Bären 4, Haus der Vereine, Zum Bären 4, 90562 Heroldsberg
END:VEVENT
BEGIN:VEVENT
DTSTAMP:20260423T011121
DTSTART;TZID=Europe/Berlin:20251016T110000
DTEND;TZID=Europe/Berlin:20251016T123000
UID:252-40206-20251016T110000@VHSECKENTAL
SUMMARY:Englisch für Senioren - A2 (252-40206) 
LOCATION:Haus der Vereine, Zum Bären 4, Haus der Vereine, Zum Bären 4, 90562 Heroldsberg
END:VEVENT
BEGIN:VEVENT
DTSTAMP:20260423T011121
DTSTART;TZID=Europe/Berlin:20251023T110000
DTEND;TZID=Europe/Berlin:20251023T123000
UID:252-40206-20251023T110000@VHSECKENTAL
SUMMARY:Englisch für Senioren - A2 (252-40206) 
LOCATION:Haus der Vereine, Zum Bären 4, Haus der Vereine, Zum Bären 4, 90562 Heroldsberg
END:VEVENT
BEGIN:VEVENT
DTSTAMP:20260423T011121
DTSTART;TZID=Europe/Berlin:20251030T110000
DTEND;TZID=Europe/Berlin:20251030T123000
UID:252-40206-20251030T110000@VHSECKENTAL
SUMMARY:Englisch für Senioren - A2 (252-40206) 
LOCATION:Haus der Vereine, Zum Bären 4, Haus der Vereine, Zum Bären 4, 90562 Heroldsberg
END:VEVENT
BEGIN:VEVENT
DTSTAMP:20260423T011121
DTSTART;TZID=Europe/Berlin:20251113T110000
DTEND;TZID=Europe/Berlin:20251113T123000
UID:252-40206-20251113T110000@VHSECKENTAL
SUMMARY:Englisch für Senioren - A2 (252-40206) 
LOCATION:Haus der Vereine, Zum Bären 4, Haus der Vereine, Zum Bären 4, 90562 Heroldsberg
END:VEVENT
BEGIN:VEVENT
DTSTAMP:20260423T011121
DTSTART;TZID=Europe/Berlin:20251120T110000
DTEND;TZID=Europe/Berlin:20251120T123000
UID:252-40206-20251120T110000@VHSECKENTAL
SUMMARY:Englisch für Senioren - A2 (252-40206) 
LOCATION:Haus der Vereine, Zum Bären 4, Haus der Vereine, Zum Bären 4, 90562 Heroldsberg
END:VEVENT
BEGIN:VEVENT
DTSTAMP:20260423T011121
DTSTART;TZID=Europe/Berlin:20251127T110000
DTEND;TZID=Europe/Berlin:20251127T123000
UID:252-40206-20251127T110000@VHSECKENTAL
SUMMARY:Englisch für Senioren - A2 (252-40206) 
LOCATION:Haus der Vereine, Zum Bären 4, Haus der Vereine, Zum Bären 4, 90562 Heroldsberg
END:VEVENT
BEGIN:VEVENT
DTSTAMP:20260423T011121
DTSTART;TZID=Europe/Berlin:20251204T110000
DTEND;TZID=Europe/Berlin:20251204T123000
UID:252-40206-20251204T110000@VHSECKENTAL
SUMMARY:Englisch für Senioren - A2 (252-40206) 
LOCATION:Haus der Vereine, Zum Bären 4, Haus der Vereine, Zum Bären 4, 90562 Heroldsberg
END:VEVENT
BEGIN:VEVENT
DTSTAMP:20260423T011121
DTSTART;TZID=Europe/Berlin:20251211T110000
DTEND;TZID=Europe/Berlin:20251211T123000
UID:252-40206-20251211T110000@VHSECKENTAL
SUMMARY:Englisch für Senioren - A2 (252-40206) 
LOCATION:Haus der Vereine, Zum Bären 4, Haus der Vereine, Zum Bären 4, 90562 Heroldsberg
END:VEVENT
BEGIN:VEVENT
DTSTAMP:20260423T011121
DTSTART;TZID=Europe/Berlin:20260108T110000
DTEND;TZID=Europe/Berlin:20260108T123000
UID:252-40206-20260108T110000@VHSECKENTAL
SUMMARY:Englisch für Senioren - A2 (252-40206) 
LOCATION:Haus der Vereine, Zum Bären 4, Haus der Vereine, Zum Bären 4, 90562 Heroldsberg
END:VEVENT
BEGIN:VEVENT
DTSTAMP:20260423T011121
DTSTART;TZID=Europe/Berlin:20260115T110000
DTEND;TZID=Europe/Berlin:20260115T123000
UID:252-40206-20260115T110000@VHSECKENTAL
SUMMARY:Englisch für Senioren - A2 (252-40206) 
LOCATION:Haus der Vereine, Zum Bären 4, Haus der Vereine, Zum Bären 4, 90562 Heroldsberg
END:VEVENT
BEGIN:VEVENT
DTSTAMP:20260423T011121
DTSTART;TZID=Europe/Berlin:20260122T110000
DTEND;TZID=Europe/Berlin:20260122T123000
UID:252-40206-20260122T110000@VHSECKENTAL
DESCRIPTION:Ersatz für 18.12.
SUMMARY:Englisch für Senioren - A2 (252-40206) 
LOCATION:Haus der Vereine, Zum Bären 4, Haus der Vereine, Zum Bären 4, 90562 Heroldsberg
END:VEVENT
END:VCALENDAR