BEGIN:VCALENDAR
VERSION:2.0
PRODID:http://www.kufer.de/kuferweb / DE
METHOD:PUBLISH
CALSCALE:GREGORIAN
X-WR-TIMEZONE:Europe/Berlin
BEGIN:VTIMEZONE
TZID:Europe/Berlin
X-LIC-LOCATION:Europe/Berlin
BEGIN:DAYLIGHT
TZOFFSETFROM:+0100
TZOFFSETTO:+0200
TZNAME:CEST
DTSTART;TZID=Europe/Berlin:19700329T020000
RRULE:FREQ=YEARLY;INTERVAL=1;BYDAY=-1SU;BYMONTH=3
END:DAYLIGHT
BEGIN:STANDARD
TZOFFSETFROM:+0200
TZOFFSETTO:+0100
TZNAME:CET
DTSTART;TZID=Europe/Berlin:19701025T030000
RRULE:FREQ=YEARLY;INTERVAL=1;BYDAY=-1SU;BYMONTH=10
END:STANDARD
END:VTIMEZONE
BEGIN:VEVENT
DTSTAMP:20260425T011307
DTSTART;TZID=Europe/Berlin:20250918T091500
DTEND;TZID=Europe/Berlin:20250918T104500
UID:252-40211-20250918T091500@VHSECKENTAL
SUMMARY:Refresher course B2 (252-40211) 
LOCATION:Haus der Vereine, Zum Bären 4, Haus der Vereine, Zum Bären 4, 90562 Heroldsberg
END:VEVENT
BEGIN:VEVENT
DTSTAMP:20260425T011307
DTSTART;TZID=Europe/Berlin:20250925T091500
DTEND;TZID=Europe/Berlin:20250925T104500
UID:252-40211-20250925T091500@VHSECKENTAL
SUMMARY:Refresher course B2 (252-40211) 
LOCATION:Haus der Vereine, Zum Bären 4, Haus der Vereine, Zum Bären 4, 90562 Heroldsberg
END:VEVENT
BEGIN:VEVENT
DTSTAMP:20260425T011307
DTSTART;TZID=Europe/Berlin:20251002T091500
DTEND;TZID=Europe/Berlin:20251002T104500
UID:252-40211-20251002T091500@VHSECKENTAL
SUMMARY:Refresher course B2 (252-40211) 
LOCATION:Haus der Vereine, Zum Bären 4, Haus der Vereine, Zum Bären 4, 90562 Heroldsberg
END:VEVENT
BEGIN:VEVENT
DTSTAMP:20260425T011307
DTSTART;TZID=Europe/Berlin:20251009T091500
DTEND;TZID=Europe/Berlin:20251009T104500
UID:252-40211-20251009T091500@VHSECKENTAL
SUMMARY:Refresher course B2 (252-40211) 
LOCATION:Haus der Vereine, Zum Bären 4, Haus der Vereine, Zum Bären 4, 90562 Heroldsberg
END:VEVENT
BEGIN:VEVENT
DTSTAMP:20260425T011307
DTSTART;TZID=Europe/Berlin:20251016T091500
DTEND;TZID=Europe/Berlin:20251016T104500
UID:252-40211-20251016T091500@VHSECKENTAL
SUMMARY:Refresher course B2 (252-40211) 
LOCATION:Haus der Vereine, Zum Bären 4, Haus der Vereine, Zum Bären 4, 90562 Heroldsberg
END:VEVENT
BEGIN:VEVENT
DTSTAMP:20260425T011307
DTSTART;TZID=Europe/Berlin:20251023T091500
DTEND;TZID=Europe/Berlin:20251023T104500
UID:252-40211-20251023T091500@VHSECKENTAL
SUMMARY:Refresher course B2 (252-40211) 
LOCATION:Haus der Vereine, Zum Bären 4, Haus der Vereine, Zum Bären 4, 90562 Heroldsberg
END:VEVENT
BEGIN:VEVENT
DTSTAMP:20260425T011307
DTSTART;TZID=Europe/Berlin:20251030T091500
DTEND;TZID=Europe/Berlin:20251030T104500
UID:252-40211-20251030T091500@VHSECKENTAL
SUMMARY:Refresher course B2 (252-40211) 
LOCATION:Haus der Vereine, Zum Bären 4, Haus der Vereine, Zum Bären 4, 90562 Heroldsberg
END:VEVENT
BEGIN:VEVENT
DTSTAMP:20260425T011307
DTSTART;TZID=Europe/Berlin:20251113T091500
DTEND;TZID=Europe/Berlin:20251113T104500
UID:252-40211-20251113T091500@VHSECKENTAL
SUMMARY:Refresher course B2 (252-40211) 
LOCATION:Haus der Vereine, Zum Bären 4, Haus der Vereine, Zum Bären 4, 90562 Heroldsberg
END:VEVENT
BEGIN:VEVENT
DTSTAMP:20260425T011307
DTSTART;TZID=Europe/Berlin:20251120T091500
DTEND;TZID=Europe/Berlin:20251120T104500
UID:252-40211-20251120T091500@VHSECKENTAL
SUMMARY:Refresher course B2 (252-40211) 
LOCATION:Haus der Vereine, Zum Bären 4, Haus der Vereine, Zum Bären 4, 90562 Heroldsberg
END:VEVENT
BEGIN:VEVENT
DTSTAMP:20260425T011307
DTSTART;TZID=Europe/Berlin:20251127T091500
DTEND;TZID=Europe/Berlin:20251127T104500
UID:252-40211-20251127T091500@VHSECKENTAL
SUMMARY:Refresher course B2 (252-40211) 
LOCATION:Haus der Vereine, Zum Bären 4, Haus der Vereine, Zum Bären 4, 90562 Heroldsberg
END:VEVENT
BEGIN:VEVENT
DTSTAMP:20260425T011307
DTSTART;TZID=Europe/Berlin:20251204T091500
DTEND;TZID=Europe/Berlin:20251204T104500
UID:252-40211-20251204T091500@VHSECKENTAL
SUMMARY:Refresher course B2 (252-40211) 
LOCATION:Haus der Vereine, Zum Bären 4, Haus der Vereine, Zum Bären 4, 90562 Heroldsberg
END:VEVENT
BEGIN:VEVENT
DTSTAMP:20260425T011307
DTSTART;TZID=Europe/Berlin:20251211T091500
DTEND;TZID=Europe/Berlin:20251211T104500
UID:252-40211-20251211T091500@VHSECKENTAL
SUMMARY:Refresher course B2 (252-40211) 
LOCATION:Haus der Vereine, Zum Bären 4, Haus der Vereine, Zum Bären 4, 90562 Heroldsberg
END:VEVENT
BEGIN:VEVENT
DTSTAMP:20260425T011307
DTSTART;TZID=Europe/Berlin:20260108T091500
DTEND;TZID=Europe/Berlin:20260108T104500
UID:252-40211-20260108T091500@VHSECKENTAL
SUMMARY:Refresher course B2 (252-40211) 
LOCATION:Haus der Vereine, Zum Bären 4, Haus der Vereine, Zum Bären 4, 90562 Heroldsberg
END:VEVENT
BEGIN:VEVENT
DTSTAMP:20260425T011307
DTSTART;TZID=Europe/Berlin:20260115T091500
DTEND;TZID=Europe/Berlin:20260115T104500
UID:252-40211-20260115T091500@VHSECKENTAL
SUMMARY:Refresher course B2 (252-40211) 
LOCATION:Haus der Vereine, Zum Bären 4, Haus der Vereine, Zum Bären 4, 90562 Heroldsberg
END:VEVENT
BEGIN:VEVENT
DTSTAMP:20260425T011307
DTSTART;TZID=Europe/Berlin:20260122T091500
DTEND;TZID=Europe/Berlin:20260122T104500
UID:252-40211-20260122T091500@VHSECKENTAL
DESCRIPTION:Ersatz für 18.12.
SUMMARY:Refresher course B2 (252-40211) 
LOCATION:Haus der Vereine, Zum Bären 4, Haus der Vereine, Zum Bären 4, 90562 Heroldsberg
END:VEVENT
END:VCALENDAR