BEGIN:VCALENDAR
VERSION:2.0
PRODID:http://www.kufer.de/kuferweb / DE
METHOD:PUBLISH
CALSCALE:GREGORIAN
X-WR-TIMEZONE:Europe/Berlin
BEGIN:VTIMEZONE
TZID:Europe/Berlin
X-LIC-LOCATION:Europe/Berlin
BEGIN:DAYLIGHT
TZOFFSETFROM:+0100
TZOFFSETTO:+0200
TZNAME:CEST
DTSTART;TZID=Europe/Berlin:19700329T020000
RRULE:FREQ=YEARLY;INTERVAL=1;BYDAY=-1SU;BYMONTH=3
END:DAYLIGHT
BEGIN:STANDARD
TZOFFSETFROM:+0200
TZOFFSETTO:+0100
TZNAME:CET
DTSTART;TZID=Europe/Berlin:19701025T030000
RRULE:FREQ=YEARLY;INTERVAL=1;BYDAY=-1SU;BYMONTH=10
END:STANDARD
END:VTIMEZONE
BEGIN:VEVENT
DTSTAMP:20260424T035340
DTSTART;TZID=Europe/Berlin:20250923T111500
DTEND;TZID=Europe/Berlin:20250923T124500
UID:252-40218-20250923T111500@VHSECKENTAL
SUMMARY:Italienisch A1 Für Teilnehmer ohne Vorkenntnisse (252-40218) 
LOCATION:Interimsgebäude 1.OG Zi-Nr. 122, Ambazac-Straße 5, 90542 Eckental
END:VEVENT
BEGIN:VEVENT
DTSTAMP:20260424T035340
DTSTART;TZID=Europe/Berlin:20250930T111500
DTEND;TZID=Europe/Berlin:20250930T124500
UID:252-40218-20250930T111500@VHSECKENTAL
SUMMARY:Italienisch A1 Für Teilnehmer ohne Vorkenntnisse (252-40218) 
LOCATION:Interimsgebäude 1.OG Zi-Nr. 122, Ambazac-Straße 5, 90542 Eckental
END:VEVENT
BEGIN:VEVENT
DTSTAMP:20260424T035340
DTSTART;TZID=Europe/Berlin:20251007T111500
DTEND;TZID=Europe/Berlin:20251007T124500
UID:252-40218-20251007T111500@VHSECKENTAL
SUMMARY:Italienisch A1 Für Teilnehmer ohne Vorkenntnisse (252-40218) 
LOCATION:Interimsgebäude 1.OG Zi-Nr. 122, Ambazac-Straße 5, 90542 Eckental
END:VEVENT
BEGIN:VEVENT
DTSTAMP:20260424T035340
DTSTART;TZID=Europe/Berlin:20251014T111500
DTEND;TZID=Europe/Berlin:20251014T124500
UID:252-40218-20251014T111500@VHSECKENTAL
SUMMARY:Italienisch A1 Für Teilnehmer ohne Vorkenntnisse (252-40218) 
LOCATION:Interimsgebäude 1.OG Zi-Nr. 122, Ambazac-Straße 5, 90542 Eckental
END:VEVENT
BEGIN:VEVENT
DTSTAMP:20260424T035340
DTSTART;TZID=Europe/Berlin:20251021T111500
DTEND;TZID=Europe/Berlin:20251021T124500
UID:252-40218-20251021T111500@VHSECKENTAL
SUMMARY:Italienisch A1 Für Teilnehmer ohne Vorkenntnisse (252-40218) 
LOCATION:Interimsgebäude 1.OG Zi-Nr. 122, Ambazac-Straße 5, 90542 Eckental
END:VEVENT
BEGIN:VEVENT
DTSTAMP:20260424T035340
DTSTART;TZID=Europe/Berlin:20251028T111500
DTEND;TZID=Europe/Berlin:20251028T124500
UID:252-40218-20251028T111500@VHSECKENTAL
SUMMARY:Italienisch A1 Für Teilnehmer ohne Vorkenntnisse (252-40218) 
LOCATION:Interimsgebäude 1.OG Zi-Nr. 122, Ambazac-Straße 5, 90542 Eckental
END:VEVENT
BEGIN:VEVENT
DTSTAMP:20260424T035340
DTSTART;TZID=Europe/Berlin:20251111T111500
DTEND;TZID=Europe/Berlin:20251111T124500
UID:252-40218-20251111T111500@VHSECKENTAL
SUMMARY:Italienisch A1 Für Teilnehmer ohne Vorkenntnisse (252-40218) 
LOCATION:Interimsgebäude 1.OG Zi-Nr. 122, Ambazac-Straße 5, 90542 Eckental
END:VEVENT
BEGIN:VEVENT
DTSTAMP:20260424T035340
DTSTART;TZID=Europe/Berlin:20251118T111500
DTEND;TZID=Europe/Berlin:20251118T124500
UID:252-40218-20251118T111500@VHSECKENTAL
SUMMARY:Italienisch A1 Für Teilnehmer ohne Vorkenntnisse (252-40218) 
LOCATION:Interimsgebäude 1.OG Zi-Nr. 122, Ambazac-Straße 5, 90542 Eckental
END:VEVENT
BEGIN:VEVENT
DTSTAMP:20260424T035340
DTSTART;TZID=Europe/Berlin:20251125T111500
DTEND;TZID=Europe/Berlin:20251125T124500
UID:252-40218-20251125T111500@VHSECKENTAL
SUMMARY:Italienisch A1 Für Teilnehmer ohne Vorkenntnisse (252-40218) 
LOCATION:Interimsgebäude 1.OG Zi-Nr. 122, Ambazac-Straße 5, 90542 Eckental
END:VEVENT
BEGIN:VEVENT
DTSTAMP:20260424T035340
DTSTART;TZID=Europe/Berlin:20251202T111500
DTEND;TZID=Europe/Berlin:20251202T124500
UID:252-40218-20251202T111500@VHSECKENTAL
SUMMARY:Italienisch A1 Für Teilnehmer ohne Vorkenntnisse (252-40218) 
LOCATION:Interimsgebäude 1.OG Zi-Nr. 122, Ambazac-Straße 5, 90542 Eckental
END:VEVENT
BEGIN:VEVENT
DTSTAMP:20260424T035340
DTSTART;TZID=Europe/Berlin:20251209T111500
DTEND;TZID=Europe/Berlin:20251209T124500
UID:252-40218-20251209T111500@VHSECKENTAL
SUMMARY:Italienisch A1 Für Teilnehmer ohne Vorkenntnisse (252-40218) 
LOCATION:Interimsgebäude 1.OG Zi-Nr. 122, Ambazac-Straße 5, 90542 Eckental
END:VEVENT
BEGIN:VEVENT
DTSTAMP:20260424T035340
DTSTART;TZID=Europe/Berlin:20251216T111500
DTEND;TZID=Europe/Berlin:20251216T124500
UID:252-40218-20251216T111500@VHSECKENTAL
SUMMARY:Italienisch A1 Für Teilnehmer ohne Vorkenntnisse (252-40218) 
LOCATION:Interimsgebäude 1.OG Zi-Nr. 122, Ambazac-Straße 5, 90542 Eckental
END:VEVENT
END:VCALENDAR