BEGIN:VCALENDAR
VERSION:2.0
PRODID:http://www.kufer.de/kuferweb / DE
METHOD:PUBLISH
CALSCALE:GREGORIAN
X-WR-TIMEZONE:Europe/Berlin
BEGIN:VTIMEZONE
TZID:Europe/Berlin
X-LIC-LOCATION:Europe/Berlin
BEGIN:DAYLIGHT
TZOFFSETFROM:+0100
TZOFFSETTO:+0200
TZNAME:CEST
DTSTART;TZID=Europe/Berlin:19700329T020000
RRULE:FREQ=YEARLY;INTERVAL=1;BYDAY=-1SU;BYMONTH=3
END:DAYLIGHT
BEGIN:STANDARD
TZOFFSETFROM:+0200
TZOFFSETTO:+0100
TZNAME:CET
DTSTART;TZID=Europe/Berlin:19701025T030000
RRULE:FREQ=YEARLY;INTERVAL=1;BYDAY=-1SU;BYMONTH=10
END:STANDARD
END:VTIMEZONE
BEGIN:VEVENT
DTSTAMP:20260421T123413
DTSTART;TZID=Europe/Berlin:20260921T100000
DTEND;TZID=Europe/Berlin:20260921T130000
UID:262-20012-20260921T100000@VHSECKENTAL
SUMMARY:Zeichnen - Gestalten - Malen (262-20012) 
LOCATION:Vereinsraum Großgeschaidt, Großgeschaidt 37, 90562 Heroldsberg
END:VEVENT
BEGIN:VEVENT
DTSTAMP:20260421T123413
DTSTART;TZID=Europe/Berlin:20260928T100000
DTEND;TZID=Europe/Berlin:20260928T130000
UID:262-20012-20260928T100000@VHSECKENTAL
SUMMARY:Zeichnen - Gestalten - Malen (262-20012) 
LOCATION:Vereinsraum Großgeschaidt, Großgeschaidt 37, 90562 Heroldsberg
END:VEVENT
BEGIN:VEVENT
DTSTAMP:20260421T123413
DTSTART;TZID=Europe/Berlin:20261005T100000
DTEND;TZID=Europe/Berlin:20261005T130000
UID:262-20012-20261005T100000@VHSECKENTAL
SUMMARY:Zeichnen - Gestalten - Malen (262-20012) 
LOCATION:Vereinsraum Großgeschaidt, Großgeschaidt 37, 90562 Heroldsberg
END:VEVENT
BEGIN:VEVENT
DTSTAMP:20260421T123413
DTSTART;TZID=Europe/Berlin:20261012T100000
DTEND;TZID=Europe/Berlin:20261012T130000
UID:262-20012-20261012T100000@VHSECKENTAL
SUMMARY:Zeichnen - Gestalten - Malen (262-20012) 
LOCATION:Vereinsraum Großgeschaidt, Großgeschaidt 37, 90562 Heroldsberg
END:VEVENT
BEGIN:VEVENT
DTSTAMP:20260421T123413
DTSTART;TZID=Europe/Berlin:20261019T100000
DTEND;TZID=Europe/Berlin:20261019T130000
UID:262-20012-20261019T100000@VHSECKENTAL
SUMMARY:Zeichnen - Gestalten - Malen (262-20012) 
LOCATION:Vereinsraum Großgeschaidt, Großgeschaidt 37, 90562 Heroldsberg
END:VEVENT
BEGIN:VEVENT
DTSTAMP:20260421T123413
DTSTART;TZID=Europe/Berlin:20261026T100000
DTEND;TZID=Europe/Berlin:20261026T130000
UID:262-20012-20261026T100000@VHSECKENTAL
SUMMARY:Zeichnen - Gestalten - Malen (262-20012) 
LOCATION:Vereinsraum Großgeschaidt, Großgeschaidt 37, 90562 Heroldsberg
END:VEVENT
BEGIN:VEVENT
DTSTAMP:20260421T123413
DTSTART;TZID=Europe/Berlin:20261109T100000
DTEND;TZID=Europe/Berlin:20261109T130000
UID:262-20012-20261109T100000@VHSECKENTAL
SUMMARY:Zeichnen - Gestalten - Malen (262-20012) 
LOCATION:Vereinsraum Großgeschaidt, Großgeschaidt 37, 90562 Heroldsberg
END:VEVENT
BEGIN:VEVENT
DTSTAMP:20260421T123413
DTSTART;TZID=Europe/Berlin:20261116T100000
DTEND;TZID=Europe/Berlin:20261116T130000
UID:262-20012-20261116T100000@VHSECKENTAL
SUMMARY:Zeichnen - Gestalten - Malen (262-20012) 
LOCATION:Vereinsraum Großgeschaidt, Großgeschaidt 37, 90562 Heroldsberg
END:VEVENT
BEGIN:VEVENT
DTSTAMP:20260421T123413
DTSTART;TZID=Europe/Berlin:20261123T100000
DTEND;TZID=Europe/Berlin:20261123T130000
UID:262-20012-20261123T100000@VHSECKENTAL
SUMMARY:Zeichnen - Gestalten - Malen (262-20012) 
LOCATION:Vereinsraum Großgeschaidt, Großgeschaidt 37, 90562 Heroldsberg
END:VEVENT
BEGIN:VEVENT
DTSTAMP:20260421T123413
DTSTART;TZID=Europe/Berlin:20261130T100000
DTEND;TZID=Europe/Berlin:20261130T130000
UID:262-20012-20261130T100000@VHSECKENTAL
SUMMARY:Zeichnen - Gestalten - Malen (262-20012) 
LOCATION:Vereinsraum Großgeschaidt, Großgeschaidt 37, 90562 Heroldsberg
END:VEVENT
BEGIN:VEVENT
DTSTAMP:20260421T123413
DTSTART;TZID=Europe/Berlin:20261207T100000
DTEND;TZID=Europe/Berlin:20261207T130000
UID:262-20012-20261207T100000@VHSECKENTAL
SUMMARY:Zeichnen - Gestalten - Malen (262-20012) 
LOCATION:Vereinsraum Großgeschaidt, Großgeschaidt 37, 90562 Heroldsberg
END:VEVENT
BEGIN:VEVENT
DTSTAMP:20260421T123413
DTSTART;TZID=Europe/Berlin:20261214T100000
DTEND;TZID=Europe/Berlin:20261214T130000
UID:262-20012-20261214T100000@VHSECKENTAL
SUMMARY:Zeichnen - Gestalten - Malen (262-20012) 
LOCATION:Vereinsraum Großgeschaidt, Großgeschaidt 37, 90562 Heroldsberg
END:VEVENT
END:VCALENDAR